BEGIN:VCALENDAR
VERSION:2.0
PRODID:-//Royal Anglian Regiment - ECPv6.15.20//NONSGML v1.0//EN
CALSCALE:GREGORIAN
METHOD:PUBLISH
X-ORIGINAL-URL:https://www.royalanglianregiment.com
X-WR-CALDESC:Events for Royal Anglian Regiment
REFRESH-INTERVAL;VALUE=DURATION:PT1H
X-Robots-Tag:noindex
X-PUBLISHED-TTL:PT1H
BEGIN:VTIMEZONE
TZID:UTC
BEGIN:STANDARD
TZOFFSETFROM:+0000
TZOFFSETTO:+0000
TZNAME:UTC
DTSTART:20250101T000000
END:STANDARD
END:VTIMEZONE
BEGIN:VEVENT
DTSTART;VALUE=DATE:20260415
DTEND;VALUE=DATE:20260416
DTSTAMP:20260424T093950
CREATED:20251202T104032Z
LAST-MODIFIED:20251202T104032Z
UID:24501-1776211200-1776297599@www.royalanglianregiment.com
SUMMARY:Benevolence meeting RHQ
DESCRIPTION:Benevolence meeting
URL:https://www.royalanglianregiment.com/event/benevolence-meeting-rhq/
CATEGORIES:Meeting
END:VEVENT
BEGIN:VEVENT
DTSTART;VALUE=DATE:20260409
DTEND;VALUE=DATE:20260410
DTSTAMP:20260424T093950
CREATED:20251209T134210Z
LAST-MODIFIED:20251209T134210Z
UID:24760-1775692800-1775779199@www.royalanglianregiment.com
SUMMARY:Lincoln Branch AGM
DESCRIPTION:
URL:https://www.royalanglianregiment.com/event/lincoln-branch-agm/
CATEGORIES:Meeting
END:VEVENT
BEGIN:VEVENT
DTSTART;VALUE=DATE:20260311
DTEND;VALUE=DATE:20260312
DTSTAMP:20260424T093950
CREATED:20251202T103704Z
LAST-MODIFIED:20251202T103704Z
UID:24498-1773187200-1773273599@www.royalanglianregiment.com
SUMMARY:County Colonels Annual Meeting\, The Keep
DESCRIPTION:
URL:https://www.royalanglianregiment.com/event/county-colonels-annual-meeting-the-keep/
LOCATION:The Keep\, Bury St Edmunds
CATEGORIES:Meeting
END:VEVENT
END:VCALENDAR